BEGIN:VCALENDAR
VERSION:2.0
PRODID:-//Laufkalender Sachsen - ECPv6.15.20//NONSGML v1.0//EN
CALSCALE:GREGORIAN
METHOD:PUBLISH
X-WR-CALNAME:Laufkalender Sachsen
X-ORIGINAL-URL:https://laufkalendersachsen.de
X-WR-CALDESC:Veranstaltungen für Laufkalender Sachsen
REFRESH-INTERVAL;VALUE=DURATION:PT1H
X-Robots-Tag:noindex
X-PUBLISHED-TTL:PT1H
BEGIN:VTIMEZONE
TZID:Europe/Berlin
BEGIN:DAYLIGHT
TZOFFSETFROM:+0100
TZOFFSETTO:+0200
TZNAME:CEST
DTSTART:20250330T010000
END:DAYLIGHT
BEGIN:STANDARD
TZOFFSETFROM:+0200
TZOFFSETTO:+0100
TZNAME:CET
DTSTART:20251026T010000
END:STANDARD
BEGIN:DAYLIGHT
TZOFFSETFROM:+0100
TZOFFSETTO:+0200
TZNAME:CEST
DTSTART:20260329T010000
END:DAYLIGHT
BEGIN:STANDARD
TZOFFSETFROM:+0200
TZOFFSETTO:+0100
TZNAME:CET
DTSTART:20261025T010000
END:STANDARD
BEGIN:DAYLIGHT
TZOFFSETFROM:+0100
TZOFFSETTO:+0200
TZNAME:CEST
DTSTART:20270328T010000
END:DAYLIGHT
BEGIN:STANDARD
TZOFFSETFROM:+0200
TZOFFSETTO:+0100
TZNAME:CET
DTSTART:20271031T010000
END:STANDARD
END:VTIMEZONE
BEGIN:VEVENT
DTSTART;TZID=Europe/Berlin:20260430T173000
DTEND;TZID=Europe/Berlin:20260430T190000
DTSTAMP:20260425T124410
CREATED:20260418T091725Z
LAST-MODIFIED:20260418T092154Z
UID:14851-1777570200-1777575600@laufkalendersachsen.de
SUMMARY:Ritter Kunz von Kaufungen Lauf (ohne Zeitmessung)
DESCRIPTION:
URL:https://laufkalendersachsen.de/event/ritter-kunz-von-kaufungen-lauf/
LOCATION:Kaufungen\, Kaufungen\, Sachsen\, 09212
CATEGORIES:Wald und Wiese
END:VEVENT
END:VCALENDAR