BEGIN:VCALENDAR
VERSION:2.0
PRODID:-//Laufkalender Sachsen - ECPv6.15.20//NONSGML v1.0//EN
CALSCALE:GREGORIAN
METHOD:PUBLISH
X-WR-CALNAME:Laufkalender Sachsen
X-ORIGINAL-URL:https://laufkalendersachsen.de
X-WR-CALDESC:Veranstaltungen für Laufkalender Sachsen
REFRESH-INTERVAL;VALUE=DURATION:PT1H
X-Robots-Tag:noindex
X-PUBLISHED-TTL:PT1H
BEGIN:VTIMEZONE
TZID:Europe/Berlin
BEGIN:DAYLIGHT
TZOFFSETFROM:+0100
TZOFFSETTO:+0200
TZNAME:CEST
DTSTART:20250330T010000
END:DAYLIGHT
BEGIN:STANDARD
TZOFFSETFROM:+0200
TZOFFSETTO:+0100
TZNAME:CET
DTSTART:20251026T010000
END:STANDARD
BEGIN:DAYLIGHT
TZOFFSETFROM:+0100
TZOFFSETTO:+0200
TZNAME:CEST
DTSTART:20260329T010000
END:DAYLIGHT
BEGIN:STANDARD
TZOFFSETFROM:+0200
TZOFFSETTO:+0100
TZNAME:CET
DTSTART:20261025T010000
END:STANDARD
BEGIN:DAYLIGHT
TZOFFSETFROM:+0100
TZOFFSETTO:+0200
TZNAME:CEST
DTSTART:20270328T010000
END:DAYLIGHT
BEGIN:STANDARD
TZOFFSETFROM:+0200
TZOFFSETTO:+0100
TZNAME:CET
DTSTART:20271031T010000
END:STANDARD
END:VTIMEZONE
BEGIN:VEVENT
DTSTART;VALUE=DATE:20260919
DTEND;VALUE=DATE:20260920
DTSTAMP:20260421T101522
CREATED:20201229T204248Z
LAST-MODIFIED:20260222T204611Z
UID:10000367-1789776000-1789862399@laufkalendersachsen.de
SUMMARY:Drei-Talsperren-Marathon Eibenstock
DESCRIPTION:Der Drei-Talsperren-Marathon ist der Erzgebirgsmarathon und einer der ältesten und zugleich schönsten Landschaftsläufe in Deutschland. Angeboten werden die Strecken Marathon / Halbmarathon und 8 km sowie ein Kids-Lauf in 4 Kinderaltersklassen. \nJetzt anmelden:\n\nHier klicken
URL:https://laufkalendersachsen.de/event/drei-talsperren-marathon-eibenstock/
LOCATION:Eibenstock\, Eibenstock\, Sachsen\, Deutschland
CATEGORIES:Wald und Wiese
ATTACH;FMTTYPE=image/jpeg:https://laufkalendersachsen.de/wp-content/uploads/2020/12/69108853ede48.jpg
END:VEVENT
END:VCALENDAR