BEGIN:VCALENDAR
VERSION:2.0
PRODID:-//Laufkalender Sachsen - ECPv6.15.20//NONSGML v1.0//EN
CALSCALE:GREGORIAN
METHOD:PUBLISH
X-ORIGINAL-URL:https://laufkalendersachsen.de
X-WR-CALDESC:Veranstaltungen für Laufkalender Sachsen
REFRESH-INTERVAL;VALUE=DURATION:PT1H
X-Robots-Tag:noindex
X-PUBLISHED-TTL:PT1H
BEGIN:VTIMEZONE
TZID:Europe/Berlin
BEGIN:DAYLIGHT
TZOFFSETFROM:+0100
TZOFFSETTO:+0200
TZNAME:CEST
DTSTART:20240331T010000
END:DAYLIGHT
BEGIN:STANDARD
TZOFFSETFROM:+0200
TZOFFSETTO:+0100
TZNAME:CET
DTSTART:20241027T010000
END:STANDARD
BEGIN:DAYLIGHT
TZOFFSETFROM:+0100
TZOFFSETTO:+0200
TZNAME:CEST
DTSTART:20250330T010000
END:DAYLIGHT
BEGIN:STANDARD
TZOFFSETFROM:+0200
TZOFFSETTO:+0100
TZNAME:CET
DTSTART:20251026T010000
END:STANDARD
BEGIN:DAYLIGHT
TZOFFSETFROM:+0100
TZOFFSETTO:+0200
TZNAME:CEST
DTSTART:20260329T010000
END:DAYLIGHT
BEGIN:STANDARD
TZOFFSETFROM:+0200
TZOFFSETTO:+0100
TZNAME:CET
DTSTART:20261025T010000
END:STANDARD
END:VTIMEZONE
BEGIN:VEVENT
DTSTART;TZID=Europe/Berlin:20251118T170000
DTEND;TZID=Europe/Berlin:20251118T200000
DTSTAMP:20260425T134955
CREATED:20251215T132044Z
LAST-MODIFIED:20251215T132044Z
UID:10000877-1763485200-1763496000@laufkalendersachsen.de
SUMMARY:Fackellauf Mittweida
DESCRIPTION:
URL:https://laufkalendersachsen.de/event/fackellauf-mittweida/
LOCATION:Mittweida\, Sachsen\, Deutschland
CATEGORIES:Bahn,Stundenlauf
END:VEVENT
BEGIN:VEVENT
DTSTART;TZID=Europe/Berlin:20251116T110000
DTEND;TZID=Europe/Berlin:20251116T130000
DTSTAMP:20260425T134955
CREATED:20251118T104411Z
LAST-MODIFIED:20251118T104411Z
UID:10000866-1763290800-1763298000@laufkalendersachsen.de
SUMMARY:Paarlaufserie Zittau 1. Lauf
DESCRIPTION:
URL:https://laufkalendersachsen.de/event/paarlaufserie-zittau-1-lauf/
LOCATION:Zittau\, Lutherplatz\, Zittau\, Sachsen\, Deutschland
CATEGORIES:Stundenlauf,Team
END:VEVENT
BEGIN:VEVENT
DTSTART;TZID=Europe/Berlin:20251115T090000
DTEND;TZID=Europe/Berlin:20251115T130000
DTSTAMP:20260425T134955
CREATED:20241028T194951Z
LAST-MODIFIED:20251118T104819Z
UID:10000774-1763197200-1763211600@laufkalendersachsen.de
SUMMARY:Regionalmeisterschaft Crosslauf und Lauf um den Mittelpunkt von Sachsen
DESCRIPTION:
URL:https://laufkalendersachsen.de/event/regionalmeisterschaft-crosslauf-und-lauf-um-den-mittelpunkt-von-sachsen/
LOCATION:Naundorf\, 09627\, Deutschland
CATEGORIES:Wald und Wiese
END:VEVENT
BEGIN:VEVENT
DTSTART;TZID=Europe/Berlin:20251112T193000
DTEND;TZID=Europe/Berlin:20251112T210000
DTSTAMP:20260425T134955
CREATED:20251022T100145Z
LAST-MODIFIED:20251024T095257Z
UID:10000854-1762975800-1762981200@laufkalendersachsen.de
SUMMARY:Paarlaufserie unter Flutlicht Görlitz
DESCRIPTION:
URL:https://laufkalendersachsen.de/event/paarlaufserie-unter-flutlicht-goerlitz-6/
LOCATION:Görlitz\, Sachsen\, Deutschland
CATEGORIES:Bahn,Stundenlauf
END:VEVENT
BEGIN:VEVENT
DTSTART;TZID=Europe/Berlin:20251109T110000
DTEND;TZID=Europe/Berlin:20251109T120000
DTSTAMP:20260425T134955
CREATED:20251022T102837Z
LAST-MODIFIED:20251022T102837Z
UID:10000855-1762686000-1762689600@laufkalendersachsen.de
SUMMARY:Paarlaufserie Niesky - 1.VA
DESCRIPTION:
URL:https://laufkalendersachsen.de/event/paarlaufserie-niesky-1-va/
LOCATION:Niesky\, Sachsen\, Deutschland
END:VEVENT
BEGIN:VEVENT
DTSTART;TZID=Europe/Berlin:20251108T130000
DTEND;TZID=Europe/Berlin:20251108T160000
DTSTAMP:20260425T134955
CREATED:20241110T144232Z
LAST-MODIFIED:20251215T131129Z
UID:10000786-1762606800-1762617600@laufkalendersachsen.de
SUMMARY:Bornaer Kippencross
DESCRIPTION:
URL:https://laufkalendersachsen.de/event/bornaer-kippencross/
LOCATION:Borna\, Borna\, Sachsen\, 04552\, Deutschland
CATEGORIES:Hindernislauf
END:VEVENT
BEGIN:VEVENT
DTSTART;TZID=Europe/Berlin:20251108T093000
DTEND;TZID=Europe/Berlin:20251108T160000
DTSTAMP:20260425T134955
CREATED:20241028T200331Z
LAST-MODIFIED:20251022T120746Z
UID:10000775-1762594200-1762617600@laufkalendersachsen.de
SUMMARY:Borna Marathon
DESCRIPTION:
URL:https://laufkalendersachsen.de/event/borna-marathon/
LOCATION:Borna\, Borna\, Sachsen\, 04552\, Deutschland
END:VEVENT
BEGIN:VEVENT
DTSTART;TZID=Europe/Berlin:20251102T100000
DTEND;TZID=Europe/Berlin:20251102T130000
DTSTAMP:20260425T134955
CREATED:20240919T204147Z
LAST-MODIFIED:20251215T130902Z
UID:10000767-1762077600-1762088400@laufkalendersachsen.de
SUMMARY:Herbstcrosslauf in Großwaltersdorf
DESCRIPTION:
URL:https://laufkalendersachsen.de/event/herbstcrosslauf-in-grosswaltersdorf/
LOCATION:Eppendorf\, 09575\, Deutschland
CATEGORIES:Wald und Wiese
END:VEVENT
BEGIN:VEVENT
DTSTART;TZID=Europe/Berlin:20251101T080000
DTEND;TZID=Europe/Berlin:20251101T170000
DTSTAMP:20260425T134955
CREATED:20240503T200722Z
LAST-MODIFIED:20251024T093500Z
UID:10000745-1761984000-1762016400@laufkalendersachsen.de
SUMMARY:Chemnitzer Treppenlauf
DESCRIPTION:Lass diesen Worten Taten folgen und im wahrsten Sinne des Wortes hoch hinaus laufen – die gut 100m hoch im Dorint Kongresshotel Chemnitz.\nWann hat man schon die Gelegenheit senkrecht durchzustarten? Der Weltrekord im Sprint 100m geradeaus liegt bei 9\,58s\, aber 100m nach oben? Wie lange magst du dabei brauchen? Die elektronische Zeitnahme wird es dir verraten.\nStell dich der Herausforderung und lege auf 452 Stufen ein ordentliches Tempo vor. Wobei\, wie viele Stufen sind es genau? Kannst du außer Atem mitzählen? Jedenfalls erwarten Dich im Ziel in der 26. Etage beim Panoramarestaurant ein super Ausblick als auch Getränke und Snacks.
URL:https://laufkalendersachsen.de/event/chemnitzer-treppenlauf/
LOCATION:Chemnitz
CATEGORIES:Treppenlauf
END:VEVENT
BEGIN:VEVENT
DTSTART;TZID=Europe/Berlin:20251101T080000
DTEND;TZID=Europe/Berlin:20251101T103000
DTSTAMP:20260425T134955
CREATED:20211129T122932Z
LAST-MODIFIED:20251125T125130Z
UID:10000589-1761984000-1761993000@laufkalendersachsen.de
SUMMARY:Bühlauer Winterlaufserie Dresden
DESCRIPTION:
URL:https://laufkalendersachsen.de/event/buehlauer-winterlaufserie-dresden-2/
LOCATION:Dresden\, Dresden\, Sachsen\, Deutschland
CATEGORIES:Wald und Wiese
END:VEVENT
BEGIN:VEVENT
DTSTART;TZID=Europe/Berlin:20251026T140000
DTEND;TZID=Europe/Berlin:20251026T180000
DTSTAMP:20260425T134955
CREATED:20210512T093705Z
LAST-MODIFIED:20251024T093227Z
UID:10000543-1761487200-1761501600@laufkalendersachsen.de
SUMMARY:Bergsteiger Crosslauf (Walter-Thomas-Lauf)
DESCRIPTION:
URL:https://laufkalendersachsen.de/event/bergsteiger-crosslauf-walter-thomas-lauf/
LOCATION:Waltersdorf\, Sachsen\, Deutschland
CATEGORIES:Wald und Wiese
END:VEVENT
BEGIN:VEVENT
DTSTART;TZID=Europe/Berlin:20251025T100000
DTEND;TZID=Europe/Berlin:20251025T130000
DTSTAMP:20260425T134955
CREATED:20250921T125619Z
LAST-MODIFIED:20251024T092424Z
UID:10000844-1761386400-1761397200@laufkalendersachsen.de
SUMMARY:Gerhard-Hamann-Gedenklauf
DESCRIPTION: 
URL:https://laufkalendersachsen.de/event/gerhard-hamann-gedenklauf/
LOCATION:Krostitz
CATEGORIES:Bahn
END:VEVENT
BEGIN:VEVENT
DTSTART;TZID=Europe/Berlin:20251025T093000
DTEND;TZID=Europe/Berlin:20251025T130000
DTSTAMP:20260425T134955
CREATED:20241104T124020Z
LAST-MODIFIED:20251215T130659Z
UID:10000785-1761384600-1761397200@laufkalendersachsen.de
SUMMARY:Spreequellcross Kottmar
DESCRIPTION:
URL:https://laufkalendersachsen.de/event/spreequellcross-kottmar/
LOCATION:Walddorf\, Sachsen\, 02739\, Deutschland
CATEGORIES:Wald und Wiese
END:VEVENT
BEGIN:VEVENT
DTSTART;TZID=Europe/Berlin:20251024T080000
DTEND;TZID=Europe/Berlin:20251024T170000
DTSTAMP:20260425T134955
CREATED:20251024T103227Z
LAST-MODIFIED:20251024T103227Z
UID:10000860-1761292800-1761325200@laufkalendersachsen.de
SUMMARY:Leipziger 4-Seen Ultra
DESCRIPTION:
URL:https://laufkalendersachsen.de/event/leipziger-4-seen-ultra/
LOCATION:Leipzig\, Sachsen\, Deutschland
CATEGORIES:Wald und Wiese
END:VEVENT
BEGIN:VEVENT
DTSTART;TZID=Europe/Berlin:20251022T203000
DTEND;TZID=Europe/Berlin:20251022T220000
DTSTAMP:20260425T134955
CREATED:20251022T100055Z
LAST-MODIFIED:20251022T100055Z
UID:10000853-1761165000-1761170400@laufkalendersachsen.de
SUMMARY:Paarlaufserie unter Flutlicht Görlitz
DESCRIPTION:
URL:https://laufkalendersachsen.de/event/paarlaufserie-unter-flutlicht-goerlitz-5/
LOCATION:Görlitz\, Sachsen\, Deutschland
END:VEVENT
BEGIN:VEVENT
DTSTART;TZID=Europe/Berlin:20251019T100000
DTEND;TZID=Europe/Berlin:20251019T150000
DTSTAMP:20260425T134955
CREATED:20210502T104905Z
LAST-MODIFIED:20250712T140431Z
UID:10000541-1760868000-1760886000@laufkalendersachsen.de
SUMMARY:Herbstcrosslauf Grünbach
DESCRIPTION:
URL:https://laufkalendersachsen.de/event/herbstcrosslauf-gruenbach/
LOCATION:Grünbach\, Sachsen\, 08223\, Deutschland
END:VEVENT
BEGIN:VEVENT
DTSTART;TZID=Europe/Berlin:20251003T100000
DTEND;TZID=Europe/Berlin:20251003T140000
DTSTAMP:20260425T134955
CREATED:20240314T164839Z
LAST-MODIFIED:20250827T112954Z
UID:10000737-1759485600-1759500000@laufkalendersachsen.de
SUMMARY:Colditzer Stundenlauf
DESCRIPTION:
URL:https://laufkalendersachsen.de/event/colditzer-stundenlauf/
LOCATION:Colditz\, Deutschland
END:VEVENT
BEGIN:VEVENT
DTSTART;TZID=Europe/Berlin:20251003T100000
DTEND;TZID=Europe/Berlin:20251003T120000
DTSTAMP:20260425T134955
CREATED:20241022T120011Z
LAST-MODIFIED:20241022T120307Z
UID:10000772-1759485600-1759492800@laufkalendersachsen.de
SUMMARY:Bornaer Zwiebellauf
DESCRIPTION:Jede Runde eine Zwiebel\nDer Bornaer Zwiebellauf ist eine Veranstaltung des VSV’77 Borna  Immer am 3. Oktober\, Tag der Deutschen Einheit\, ist es zu einer langjährige Tradition zum Familientag mit Laufrunden zu stimmungsvoller Musik geworden. Weit über 1000 Bornaer treffen sich 10 Uhr im Rudolph Harbig Stadion und erlaufen sich Runde für Runde ihren Zwiebelvorrat für den Winter. Denn die Zwiebel gibts als Belohnung für jede gelaufene Runde. Auch wir von Augenoptik Seiberlich machen diesen Tag zum Familientag und laufen mit. Vielleicht sieht man sich ja mal.
URL:https://laufkalendersachsen.de/event/bornaer-zwiebellauf/
LOCATION:Borna\, Borna\, Sachsen\, 04552\, Deutschland
ATTACH;FMTTYPE=image/jpeg:https://laufkalendersachsen.de/wp-content/uploads/2024/10/Zwiebel-1.jpg
END:VEVENT
BEGIN:VEVENT
DTSTART;TZID=Europe/Berlin:20251001T180000
DTEND;TZID=Europe/Berlin:20251001T200000
DTSTAMP:20260425T134955
CREATED:20211125T122750Z
LAST-MODIFIED:20260113T092648Z
UID:10000578-1759341600-1759348800@laufkalendersachsen.de
SUMMARY:Leipziger Stundenlauf mit Musik
DESCRIPTION:
URL:https://laufkalendersachsen.de/event/leipziger-stundenlauf-3/
LOCATION:Leipzig\, Sachsen\, Deutschland
CATEGORIES:Bahn,Stundenlauf
END:VEVENT
BEGIN:VEVENT
DTSTART;TZID=Europe/Berlin:20250927T120000
DTEND;TZID=Europe/Berlin:20250927T150000
DTSTAMP:20260425T134955
CREATED:20210304T194537Z
LAST-MODIFIED:20251215T125111Z
UID:10000466-1758974400-1758985200@laufkalendersachsen.de
SUMMARY:Mülsengrundlauf
DESCRIPTION:
URL:https://laufkalendersachsen.de/event/muelsengrundlauf/
LOCATION:Mülsen\, Sachsen\, Deutschland
CATEGORIES:Wald und Wiese
END:VEVENT
BEGIN:VEVENT
DTSTART;TZID=Europe/Berlin:20250927T070000
DTEND;TZID=Europe/Berlin:20250927T190000
DTSTAMP:20260425T134955
CREATED:20250824T195442Z
LAST-MODIFIED:20250824T195442Z
UID:10000840-1758956400-1758999600@laufkalendersachsen.de
SUMMARY:Radeberger Hüttenlauf
DESCRIPTION:
URL:https://laufkalendersachsen.de/event/radeberger-huettenlauf/
LOCATION:Radeberg\, Sachsen\, Deutschland
END:VEVENT
BEGIN:VEVENT
DTSTART;TZID=Europe/Berlin:20250921T110000
DTEND;TZID=Europe/Berlin:20250921T140000
DTSTAMP:20260425T134955
CREATED:20250803T132306Z
LAST-MODIFIED:20250803T132306Z
UID:10000834-1758452400-1758463200@laufkalendersachsen.de
SUMMARY:Lauf um den Nackschen Arsch
DESCRIPTION:
URL:https://laufkalendersachsen.de/event/lauf-um-den-nackschen-arsch/
LOCATION:Wilsdruff\, Sachsen\, Deutschland
END:VEVENT
BEGIN:VEVENT
DTSTART;TZID=Europe/Berlin:20250921T090000
DTEND;TZID=Europe/Berlin:20250921T130000
DTSTAMP:20260425T134955
CREATED:20240811T075547Z
LAST-MODIFIED:20250402T094937Z
UID:10000763-1758445200-1758459600@laufkalendersachsen.de
SUMMARY:Naunhofer Seelauf
DESCRIPTION:Ein Lauf um die Naunhofer Seen für Jung und Alt.
URL:https://laufkalendersachsen.de/event/naunhofer-seelauf/
LOCATION:Naunhof\, Sachsen\, Deutschland
ATTACH;FMTTYPE=image/jpeg:https://laufkalendersachsen.de/wp-content/uploads/2024/08/Poster-NSL-min.jpg
END:VEVENT
BEGIN:VEVENT
DTSTART;TZID=Europe/Berlin:20250920T130000
DTEND;TZID=Europe/Berlin:20250920T160000
DTSTAMP:20260425T134955
CREATED:20221025T194757Z
LAST-MODIFIED:20251215T130218Z
UID:10000652-1758373200-1758384000@laufkalendersachsen.de
SUMMARY:Seidelsberglauf
DESCRIPTION:
URL:https://laufkalendersachsen.de/event/seidelsberglauf/
LOCATION:Bertsdorf-Hörnitz\, Sachsen\, Deutschland
CATEGORIES:Wald und Wiese
END:VEVENT
BEGIN:VEVENT
DTSTART;TZID=Europe/Berlin:20250919T170000
DTEND;TZID=Europe/Berlin:20250919T200000
DTSTAMP:20260425T134955
CREATED:20210518T092916Z
LAST-MODIFIED:20241114T090031Z
UID:10000548-1758301200-1758312000@laufkalendersachsen.de
SUMMARY:Frohburger Dreieck-Lauf
DESCRIPTION:
URL:https://laufkalendersachsen.de/event/frohburger-dreieck-lauf/
LOCATION:Frohburg\, Sachsen\, Deutschland
END:VEVENT
BEGIN:VEVENT
DTSTART;TZID=Europe/Berlin:20250914T100000
DTEND;TZID=Europe/Berlin:20250914T130000
DTSTAMP:20260425T134955
CREATED:20230412T110116Z
LAST-MODIFIED:20250321T123052Z
UID:10000689-1757844000-1757854800@laufkalendersachsen.de
SUMMARY:Herbstkammlauf Klingenthal
DESCRIPTION:
URL:https://laufkalendersachsen.de/event/herbstkammlauf-klingenthal/
LOCATION:Klingenthal/Vogtland\, Sachsen\, Deutschland
END:VEVENT
BEGIN:VEVENT
DTSTART;TZID=Europe/Berlin:20250910T200000
DTEND;TZID=Europe/Berlin:20250910T220000
DTSTAMP:20260425T134955
CREATED:20210304T194235Z
LAST-MODIFIED:20250321T123834Z
UID:10000462-1757534400-1757541600@laufkalendersachsen.de
SUMMARY:Zwickauer Stundenlaufserie
DESCRIPTION:
URL:https://laufkalendersachsen.de/event/zwickauer-stundenlaufserie-2021-09-08/
LOCATION:Zwickau
END:VEVENT
BEGIN:VEVENT
DTSTART;TZID=Europe/Berlin:20250910T180000
DTEND;TZID=Europe/Berlin:20250910T220000
DTSTAMP:20260425T134955
CREATED:20210518T095802Z
LAST-MODIFIED:20241213T110656Z
UID:10000558-1757527200-1757541600@laufkalendersachsen.de
SUMMARY:Oberlausitzer Zwiebellauf
DESCRIPTION:Auch der Oberlausitzer Zwiebellauf ist aus dem Laufkalender nicht mehr weg zu denken. Seit mehr als 30 Jahren treffen sich alljährlich im September Läufer aus der Region im Wesenitz-Sportpark und erlaufen pro Runde eine Zwiebel. \nUm 16:30 Uhr startet der erste und um 17:00 Uhr der zweite 15minütige Bonbon-Lauf für die Kinder. Um 17:30 Uhr und 18:15 Uhr beginnen die je 30minütigen Zwiebelläufe.
URL:https://laufkalendersachsen.de/event/oberlausitzer-zwiebellauf/
LOCATION:Bischofswerda
END:VEVENT
BEGIN:VEVENT
DTSTART;TZID=Europe/Berlin:20250907T160000
DTEND;TZID=Europe/Berlin:20250907T190000
DTSTAMP:20260425T134955
CREATED:20201229T203935Z
LAST-MODIFIED:20241101T113014Z
UID:10000365-1757260800-1757271600@laufkalendersachsen.de
SUMMARY:Blackbird Run Hoske
DESCRIPTION:Black Bird Run Hoske\nWasser\, Wurzeln\, Dreck & Steine … \n15 Hindernisse auf zwölf Kilometern Strecke warten auf die Teilnehmer \nRennen\, klettern\, schwimmen. Ein Crosslauf  in Hoske: Es wird durch Schlamm gewartet\, über Hürden gekraxelt und durch die Schwarze Elster geschwommen. \nWer nicht selbst Hindernisse überwinden und durch Dreck kriechen möchte\, kann die Veranstaltung als Zuschauer aus nächster Nähe mitverfolgen und die Läufer anfeuern.
URL:https://laufkalendersachsen.de/event/blackbird-run-hoske/
LOCATION:Wittichenau
ATTACH;FMTTYPE=image/png:https://laufkalendersachsen.de/wp-content/uploads/2020/12/cropped-LOGO_header-e1730460574488.png
END:VEVENT
BEGIN:VEVENT
DTSTART;TZID=Europe/Berlin:20250907T090000
DTEND;TZID=Europe/Berlin:20250907T110000
DTSTAMP:20260425T134955
CREATED:20230131T130252Z
LAST-MODIFIED:20250320T164556Z
UID:10000684-1757235600-1757242800@laufkalendersachsen.de
SUMMARY:Stunden Paarlauf Brand-Erbisdorf
DESCRIPTION:
URL:https://laufkalendersachsen.de/event/stunden-paarlauf-brand-erbisdorf/
LOCATION:Brand-Erbisdorf\, Sachsen\, Deutschland
ATTACH;FMTTYPE=image/png:https://laufkalendersachsen.de/wp-content/uploads/2023/01/cropped-Laeufer-1024x726-1-e1742489150295.png
END:VEVENT
END:VCALENDAR