BEGIN:VCALENDAR
VERSION:2.0
PRODID:-//Laufkalender Sachsen - ECPv6.15.20//NONSGML v1.0//EN
CALSCALE:GREGORIAN
METHOD:PUBLISH
X-ORIGINAL-URL:https://laufkalendersachsen.de
X-WR-CALDESC:Veranstaltungen für Laufkalender Sachsen
REFRESH-INTERVAL;VALUE=DURATION:PT1H
X-Robots-Tag:noindex
X-PUBLISHED-TTL:PT1H
BEGIN:VTIMEZONE
TZID:Europe/Berlin
BEGIN:DAYLIGHT
TZOFFSETFROM:+0100
TZOFFSETTO:+0200
TZNAME:CEST
DTSTART:20240331T010000
END:DAYLIGHT
BEGIN:STANDARD
TZOFFSETFROM:+0200
TZOFFSETTO:+0100
TZNAME:CET
DTSTART:20241027T010000
END:STANDARD
BEGIN:DAYLIGHT
TZOFFSETFROM:+0100
TZOFFSETTO:+0200
TZNAME:CEST
DTSTART:20250330T010000
END:DAYLIGHT
BEGIN:STANDARD
TZOFFSETFROM:+0200
TZOFFSETTO:+0100
TZNAME:CET
DTSTART:20251026T010000
END:STANDARD
BEGIN:DAYLIGHT
TZOFFSETFROM:+0100
TZOFFSETTO:+0200
TZNAME:CEST
DTSTART:20260329T010000
END:DAYLIGHT
BEGIN:STANDARD
TZOFFSETFROM:+0200
TZOFFSETTO:+0100
TZNAME:CET
DTSTART:20261025T010000
END:STANDARD
END:VTIMEZONE
BEGIN:VEVENT
DTSTART;TZID=Europe/Berlin:20251231T100000
DTEND;TZID=Europe/Berlin:20251231T130000
DTSTAMP:20260425T122940
CREATED:20221010T211256Z
LAST-MODIFIED:20251024T101414Z
UID:10000649-1767175200-1767186000@laufkalendersachsen.de
SUMMARY:Silvesterlauf Riesa
DESCRIPTION:Jeder läuft so weit er möchte oder kann. Ohne Zeitnahme\, ohne Wertung\, ohne Startgebühr.
URL:https://laufkalendersachsen.de/event/silvesterlauf-riesa-ohne-startgebuehr/
LOCATION:Riesa
CATEGORIES:Wald und Wiese
END:VEVENT
BEGIN:VEVENT
DTSTART;TZID=Europe/Berlin:20251231T100000
DTEND;TZID=Europe/Berlin:20251231T130000
DTSTAMP:20260425T122940
CREATED:20220403T114509Z
LAST-MODIFIED:20251024T101533Z
UID:10000633-1767175200-1767186000@laufkalendersachsen.de
SUMMARY:Werdauer Silvesterlauf
DESCRIPTION:
URL:https://laufkalendersachsen.de/event/werdauer-silvester-waldlauf-2/
LOCATION:Werdau\, Sachsen\, Deutschland
CATEGORIES:Wald und Wiese
END:VEVENT
BEGIN:VEVENT
DTSTART;TZID=Europe/Berlin:20251231T100000
DTEND;TZID=Europe/Berlin:20251231T120000
DTSTAMP:20260425T122940
CREATED:20251210T112708Z
LAST-MODIFIED:20251210T112708Z
UID:10000874-1767175200-1767182400@laufkalendersachsen.de
SUMMARY:Silvesterlauf Löbau
DESCRIPTION:
URL:https://laufkalendersachsen.de/event/silvesterlauf-loebau/
LOCATION:Löbau\, Löbau\, Sachsen\, Deutschland
CATEGORIES:Wald und Wiese
END:VEVENT
BEGIN:VEVENT
DTSTART;TZID=Europe/Berlin:20251231T100000
DTEND;TZID=Europe/Berlin:20251231T120000
DTSTAMP:20260425T122940
CREATED:20240104T202114Z
LAST-MODIFIED:20251024T101306Z
UID:10000716-1767175200-1767182400@laufkalendersachsen.de
SUMMARY:Silvesterlauf Freiberg
DESCRIPTION:ohne Zeitmessung
URL:https://laufkalendersachsen.de/event/silvesterlauf-schneeberg/
LOCATION:Freiberg\, Sachsen\, Deutschland
CATEGORIES:Wald und Wiese
END:VEVENT
BEGIN:VEVENT
DTSTART;TZID=Europe/Berlin:20251228T100000
DTEND;TZID=Europe/Berlin:20251228T130000
DTSTAMP:20260425T122940
CREATED:20210419T101836Z
LAST-MODIFIED:20251204T093459Z
UID:10000506-1766916000-1766926800@laufkalendersachsen.de
SUMMARY:Görlitzer Silvesterlauf
DESCRIPTION:
URL:https://laufkalendersachsen.de/event/goerlitzer-silvesterlauf/
LOCATION:Görlitz\, Sachsen\, Deutschland
CATEGORIES:Wald und Wiese
END:VEVENT
BEGIN:VEVENT
DTSTART;TZID=Europe/Berlin:20251226T180000
DTEND;TZID=Europe/Berlin:20251226T200000
DTSTAMP:20260425T122940
CREATED:20240109T121521Z
LAST-MODIFIED:20251024T095615Z
UID:10000722-1766772000-1766779200@laufkalendersachsen.de
SUMMARY:Speckweglauf Rothenburg
DESCRIPTION:
URL:https://laufkalendersachsen.de/event/speckweglauf-rothenburg/
LOCATION:Rothenburg\, Sachsen\, Deutschland
CATEGORIES:Straße
END:VEVENT
BEGIN:VEVENT
DTSTART;TZID=Europe/Berlin:20251226T100000
DTEND;TZID=Europe/Berlin:20251226T130000
DTSTAMP:20260425T122940
CREATED:20251216T155129Z
LAST-MODIFIED:20251216T155302Z
UID:10000882-1766743200-1766754000@laufkalendersachsen.de
SUMMARY:Weihnachtslauf Kitzscher
DESCRIPTION:
URL:https://laufkalendersachsen.de/event/weihnachtslauf-kitzscher/
LOCATION:Kitzscher\, Kitzscher\, Sachsen\, Deutschland
CATEGORIES:Wald und Wiese
END:VEVENT
BEGIN:VEVENT
DTSTART;TZID=Europe/Berlin:20251221T100000
DTEND;TZID=Europe/Berlin:20251221T120000
DTSTAMP:20260425T122940
CREATED:20251201T134216Z
LAST-MODIFIED:20251212T083540Z
UID:10000870-1766311200-1766318400@laufkalendersachsen.de
SUMMARY:Weihnachtslauf "Auguste"
DESCRIPTION:
URL:https://laufkalendersachsen.de/event/weihnachtslauf-auguste/
LOCATION:Dresden\, Dresden\, Sachsen\, Deutschland
CATEGORIES:Straße
END:VEVENT
BEGIN:VEVENT
DTSTART;TZID=Europe/Berlin:20251220T140000
DTEND;TZID=Europe/Berlin:20251220T170000
DTSTAMP:20260425T122940
CREATED:20230623T202953Z
LAST-MODIFIED:20251024T100755Z
UID:10000696-1766239200-1766250000@laufkalendersachsen.de
SUMMARY:Sparkassen-Sonnenwendlauf Leipzig
DESCRIPTION:
URL:https://laufkalendersachsen.de/event/sparkassen-sonnenwendlauf-leipzig-2/
LOCATION:Markkleeberg
CATEGORIES:Wald und Wiese
END:VEVENT
BEGIN:VEVENT
DTSTART;TZID=Europe/Berlin:20251217T183000
DTEND;TZID=Europe/Berlin:20251217T200000
DTSTAMP:20260425T122940
CREATED:20211129T122257Z
LAST-MODIFIED:20251125T135836Z
UID:10000587-1765996200-1766001600@laufkalendersachsen.de
SUMMARY:Paarlaufserie unter Flutlicht Görlitz
DESCRIPTION:
URL:https://laufkalendersachsen.de/event/paarlaufserie-unter-flutlicht-goerlitz-4/
LOCATION:Görlitz\, Sachsen\, Deutschland
CATEGORIES:Bahn,Stundenlauf
END:VEVENT
BEGIN:VEVENT
DTSTART;TZID=Europe/Berlin:20251214T110000
DTEND;TZID=Europe/Berlin:20251214T130000
DTSTAMP:20260425T122940
CREATED:20251118T104532Z
LAST-MODIFIED:20251118T104532Z
UID:10000869-1765710000-1765717200@laufkalendersachsen.de
SUMMARY:Paarlaufserie Zittau 2. Lauf
DESCRIPTION:
URL:https://laufkalendersachsen.de/event/paarlaufserie-zittau-2-lauf/
LOCATION:Zittau\, Lutherplatz\, Zittau\, Sachsen\, Deutschland
CATEGORIES:Stundenlauf,Team
END:VEVENT
BEGIN:VEVENT
DTSTART;TZID=Europe/Berlin:20251207T100000
DTEND;TZID=Europe/Berlin:20251207T140000
DTSTAMP:20260425T122940
CREATED:20220211T195350Z
LAST-MODIFIED:20251112T112254Z
UID:10000605-1765101600-1765116000@laufkalendersachsen.de
SUMMARY:Döbelner Nikolauslauf
DESCRIPTION:
URL:https://laufkalendersachsen.de/event/doebelner-nikolauslauf/
LOCATION:Döbeln\, Obermarkt\, Döbeln\, Sachsen\, 04720\, Deutschland
CATEGORIES:Straße
END:VEVENT
BEGIN:VEVENT
DTSTART;TZID=Europe/Berlin:20251207T090000
DTEND;TZID=Europe/Berlin:20251207T140000
DTSTAMP:20260425T122940
CREATED:20221031T132741Z
LAST-MODIFIED:20251024T100010Z
UID:10000653-1765098000-1765116000@laufkalendersachsen.de
SUMMARY:OEM Adventslauftreff
DESCRIPTION:
URL:https://laufkalendersachsen.de/event/oem-adventslauftreff/
LOCATION:Dresden\, Dresden\, Sachsen\, Deutschland
CATEGORIES:Straße
END:VEVENT
BEGIN:VEVENT
DTSTART;TZID=Europe/Berlin:20251206T120000
DTEND;TZID=Europe/Berlin:20251206T143000
DTSTAMP:20260425T122940
CREATED:20231108T205505Z
LAST-MODIFIED:20251024T100231Z
UID:10000702-1765022400-1765031400@laufkalendersachsen.de
SUMMARY:3. Sächsischer Inklusionslauf Dohna
DESCRIPTION:Der Gedanken des Inklusionslaufes beinhaltet:\nEs ist eine Sportveranstaltung für Menschen mit und ohne Behinderung. Jeder ist willkommen und kann auf seine individuelle Weise teilnehmen. Nicht die Bestzeit zählt\, sondern gemeinsam und gesund das Ziel zu erreichen. Neben dem olympischen Gedanken sollte mit diesem Lauf ein Zeichen für Inklusion in unserer Gesellschaft gesetzt werden. Inklusionssport fördert die sozial-emotionale Entwicklung\, das Gemeinschaftsdenken und damit den gesellschaftlichen Zusammenhang und trägt zur Persönlichkeitsentwicklung bei. \n„Man muss das Unmögliche versuchen“ \nEntstehung der Idee \nSeit vielen Jahren fand in der Stadt Dohna am Samstag vor dem 2. Advent der Dohnaer Adventslauf statt. Er war immer Bestandteil des Dohnaer Weihnachtsmarktes mit Start und Ziel auf dem historischen Markt in Dohna. Auf Grund der neuen Gegebenheiten nach der Corona Pandemie (Hygienekonzept) und der Minimierung von Kosten (Straßensperrung) ist seit 2022 keine Möglichkeit mehr vorhanden\, den Lauf in der ursprünglichen Form stattfinden zu lassen. \nKurzfristig wurde durch den Verein MSV Meusegast e.V. ein neuer Start-/Zielort gesucht und im Gut Gamig gefunden. Der Lauf wurde am 03.12.2022 auf der neuen Strecke durchgeführt und fand sehr guten Anklang bei den Beteiligten. Die Sportler zeigten sehr viel Interesse für das Gut Gamig und die Aktivitäten des Vereines. Es wurde sehr bedauert\, dass am Wettkampftag keine Bewohner und Rehabilitanden des Gutes anwesend waren. \nIm Rahmen der Auswertung wurde der Sachverhalt mit dem Gut Gamig e.V. angesprochen. Dabei wurde berichtet\, dass Sport eine große Rolle im täglichen Leben der Rehabilitanden spielt. Es gibt auch eine Laufgruppe. In diesem Gespräch wurde die Idee des Inklusionslaufes entwickelt. \nEine erste gemeinsame Aktion war die Teilnahme von Rehabilitanden beim Firmenlauf Rewe Teamchallenge am 06.06.2023 in Dresden. Auf Einladung der Stadt Dohna waren 4 Rehabilitanden mit 2 Betreuern Mitwirkende in den 11 Staffeln der Stadt Dohna und haben die 5 km Strecke erfolgreich gemeistert.
URL:https://laufkalendersachsen.de/event/1-saechsischer-inklusionslauf-dohna/
LOCATION:Dohna\, Sachsen\, Deutschland
CATEGORIES:Straße
END:VEVENT
BEGIN:VEVENT
DTSTART;TZID=Europe/Berlin:20251206T110000
DTEND;TZID=Europe/Berlin:20251206T120000
DTSTAMP:20260425T122940
CREATED:20251022T102930Z
LAST-MODIFIED:20251024T100135Z
UID:10000856-1765018800-1765022400@laufkalendersachsen.de
SUMMARY:Paarlaufserie Niesky - 2.VA
DESCRIPTION:
URL:https://laufkalendersachsen.de/event/paarlaufserie-niesky-2-va/
LOCATION:Niesky\, Sachsen\, Deutschland
CATEGORIES:Bahn,Stundenlauf
END:VEVENT
BEGIN:VEVENT
DTSTART;TZID=Europe/Berlin:20251206T080000
DTEND;TZID=Europe/Berlin:20251206T103000
DTSTAMP:20260425T122940
CREATED:20211129T122742Z
LAST-MODIFIED:20251125T125201Z
UID:10000588-1765008000-1765017000@laufkalendersachsen.de
SUMMARY:Bühlauer Winterlaufserie Dresden
DESCRIPTION:
URL:https://laufkalendersachsen.de/event/buehlauer-winterlaufserie-dresden/
LOCATION:Dresden\, Dresden\, Sachsen\, Deutschland
CATEGORIES:Wald und Wiese
END:VEVENT
BEGIN:VEVENT
DTSTART;TZID=Europe/Berlin:20251129T160000
DTEND;TZID=Europe/Berlin:20251129T190000
DTSTAMP:20260425T122940
CREATED:20210512T094007Z
LAST-MODIFIED:20251024T095827Z
UID:10000544-1764432000-1764442800@laufkalendersachsen.de
SUMMARY:Freiberger Adventslauf
DESCRIPTION:
URL:https://laufkalendersachsen.de/event/freiberger-adventslauf/
LOCATION:Freiberg\, Sachsen\, Deutschland
CATEGORIES:Straße
END:VEVENT
BEGIN:VEVENT
DTSTART;TZID=Europe/Berlin:20251118T170000
DTEND;TZID=Europe/Berlin:20251118T200000
DTSTAMP:20260425T122940
CREATED:20251215T132044Z
LAST-MODIFIED:20251215T132044Z
UID:10000877-1763485200-1763496000@laufkalendersachsen.de
SUMMARY:Fackellauf Mittweida
DESCRIPTION:
URL:https://laufkalendersachsen.de/event/fackellauf-mittweida/
LOCATION:Mittweida\, Sachsen\, Deutschland
CATEGORIES:Bahn,Stundenlauf
END:VEVENT
BEGIN:VEVENT
DTSTART;TZID=Europe/Berlin:20251116T110000
DTEND;TZID=Europe/Berlin:20251116T130000
DTSTAMP:20260425T122940
CREATED:20251118T104411Z
LAST-MODIFIED:20251118T104411Z
UID:10000866-1763290800-1763298000@laufkalendersachsen.de
SUMMARY:Paarlaufserie Zittau 1. Lauf
DESCRIPTION:
URL:https://laufkalendersachsen.de/event/paarlaufserie-zittau-1-lauf/
LOCATION:Zittau\, Lutherplatz\, Zittau\, Sachsen\, Deutschland
CATEGORIES:Stundenlauf,Team
END:VEVENT
BEGIN:VEVENT
DTSTART;TZID=Europe/Berlin:20251115T090000
DTEND;TZID=Europe/Berlin:20251115T130000
DTSTAMP:20260425T122940
CREATED:20241028T194951Z
LAST-MODIFIED:20251118T104819Z
UID:10000774-1763197200-1763211600@laufkalendersachsen.de
SUMMARY:Regionalmeisterschaft Crosslauf und Lauf um den Mittelpunkt von Sachsen
DESCRIPTION:
URL:https://laufkalendersachsen.de/event/regionalmeisterschaft-crosslauf-und-lauf-um-den-mittelpunkt-von-sachsen/
LOCATION:Naundorf\, 09627\, Deutschland
CATEGORIES:Wald und Wiese
END:VEVENT
BEGIN:VEVENT
DTSTART;TZID=Europe/Berlin:20251112T193000
DTEND;TZID=Europe/Berlin:20251112T210000
DTSTAMP:20260425T122940
CREATED:20251022T100145Z
LAST-MODIFIED:20251024T095257Z
UID:10000854-1762975800-1762981200@laufkalendersachsen.de
SUMMARY:Paarlaufserie unter Flutlicht Görlitz
DESCRIPTION:
URL:https://laufkalendersachsen.de/event/paarlaufserie-unter-flutlicht-goerlitz-6/
LOCATION:Görlitz\, Sachsen\, Deutschland
CATEGORIES:Bahn,Stundenlauf
END:VEVENT
BEGIN:VEVENT
DTSTART;TZID=Europe/Berlin:20251109T110000
DTEND;TZID=Europe/Berlin:20251109T120000
DTSTAMP:20260425T122940
CREATED:20251022T102837Z
LAST-MODIFIED:20251022T102837Z
UID:10000855-1762686000-1762689600@laufkalendersachsen.de
SUMMARY:Paarlaufserie Niesky - 1.VA
DESCRIPTION:
URL:https://laufkalendersachsen.de/event/paarlaufserie-niesky-1-va/
LOCATION:Niesky\, Sachsen\, Deutschland
END:VEVENT
BEGIN:VEVENT
DTSTART;TZID=Europe/Berlin:20251108T130000
DTEND;TZID=Europe/Berlin:20251108T160000
DTSTAMP:20260425T122940
CREATED:20241110T144232Z
LAST-MODIFIED:20251215T131129Z
UID:10000786-1762606800-1762617600@laufkalendersachsen.de
SUMMARY:Bornaer Kippencross
DESCRIPTION:
URL:https://laufkalendersachsen.de/event/bornaer-kippencross/
LOCATION:Borna\, Borna\, Sachsen\, 04552\, Deutschland
CATEGORIES:Hindernislauf
END:VEVENT
BEGIN:VEVENT
DTSTART;TZID=Europe/Berlin:20251108T093000
DTEND;TZID=Europe/Berlin:20251108T160000
DTSTAMP:20260425T122940
CREATED:20241028T200331Z
LAST-MODIFIED:20251022T120746Z
UID:10000775-1762594200-1762617600@laufkalendersachsen.de
SUMMARY:Borna Marathon
DESCRIPTION:
URL:https://laufkalendersachsen.de/event/borna-marathon/
LOCATION:Borna\, Borna\, Sachsen\, 04552\, Deutschland
END:VEVENT
BEGIN:VEVENT
DTSTART;TZID=Europe/Berlin:20251102T100000
DTEND;TZID=Europe/Berlin:20251102T130000
DTSTAMP:20260425T122940
CREATED:20240919T204147Z
LAST-MODIFIED:20251215T130902Z
UID:10000767-1762077600-1762088400@laufkalendersachsen.de
SUMMARY:Herbstcrosslauf in Großwaltersdorf
DESCRIPTION:
URL:https://laufkalendersachsen.de/event/herbstcrosslauf-in-grosswaltersdorf/
LOCATION:Eppendorf\, 09575\, Deutschland
CATEGORIES:Wald und Wiese
END:VEVENT
BEGIN:VEVENT
DTSTART;TZID=Europe/Berlin:20251101T080000
DTEND;TZID=Europe/Berlin:20251101T170000
DTSTAMP:20260425T122940
CREATED:20240503T200722Z
LAST-MODIFIED:20251024T093500Z
UID:10000745-1761984000-1762016400@laufkalendersachsen.de
SUMMARY:Chemnitzer Treppenlauf
DESCRIPTION:Lass diesen Worten Taten folgen und im wahrsten Sinne des Wortes hoch hinaus laufen – die gut 100m hoch im Dorint Kongresshotel Chemnitz.\nWann hat man schon die Gelegenheit senkrecht durchzustarten? Der Weltrekord im Sprint 100m geradeaus liegt bei 9\,58s\, aber 100m nach oben? Wie lange magst du dabei brauchen? Die elektronische Zeitnahme wird es dir verraten.\nStell dich der Herausforderung und lege auf 452 Stufen ein ordentliches Tempo vor. Wobei\, wie viele Stufen sind es genau? Kannst du außer Atem mitzählen? Jedenfalls erwarten Dich im Ziel in der 26. Etage beim Panoramarestaurant ein super Ausblick als auch Getränke und Snacks.
URL:https://laufkalendersachsen.de/event/chemnitzer-treppenlauf/
LOCATION:Chemnitz
CATEGORIES:Treppenlauf
END:VEVENT
BEGIN:VEVENT
DTSTART;TZID=Europe/Berlin:20251101T080000
DTEND;TZID=Europe/Berlin:20251101T103000
DTSTAMP:20260425T122940
CREATED:20211129T122932Z
LAST-MODIFIED:20251125T125130Z
UID:10000589-1761984000-1761993000@laufkalendersachsen.de
SUMMARY:Bühlauer Winterlaufserie Dresden
DESCRIPTION:
URL:https://laufkalendersachsen.de/event/buehlauer-winterlaufserie-dresden-2/
LOCATION:Dresden\, Dresden\, Sachsen\, Deutschland
CATEGORIES:Wald und Wiese
END:VEVENT
BEGIN:VEVENT
DTSTART;TZID=Europe/Berlin:20251026T140000
DTEND;TZID=Europe/Berlin:20251026T180000
DTSTAMP:20260425T122940
CREATED:20210512T093705Z
LAST-MODIFIED:20251024T093227Z
UID:10000543-1761487200-1761501600@laufkalendersachsen.de
SUMMARY:Bergsteiger Crosslauf (Walter-Thomas-Lauf)
DESCRIPTION:
URL:https://laufkalendersachsen.de/event/bergsteiger-crosslauf-walter-thomas-lauf/
LOCATION:Waltersdorf\, Sachsen\, Deutschland
CATEGORIES:Wald und Wiese
END:VEVENT
BEGIN:VEVENT
DTSTART;TZID=Europe/Berlin:20251025T100000
DTEND;TZID=Europe/Berlin:20251025T130000
DTSTAMP:20260425T122940
CREATED:20250921T125619Z
LAST-MODIFIED:20251024T092424Z
UID:10000844-1761386400-1761397200@laufkalendersachsen.de
SUMMARY:Gerhard-Hamann-Gedenklauf
DESCRIPTION: 
URL:https://laufkalendersachsen.de/event/gerhard-hamann-gedenklauf/
LOCATION:Krostitz
CATEGORIES:Bahn
END:VEVENT
BEGIN:VEVENT
DTSTART;TZID=Europe/Berlin:20251025T093000
DTEND;TZID=Europe/Berlin:20251025T130000
DTSTAMP:20260425T122940
CREATED:20241104T124020Z
LAST-MODIFIED:20251215T130659Z
UID:10000785-1761384600-1761397200@laufkalendersachsen.de
SUMMARY:Spreequellcross Kottmar
DESCRIPTION:
URL:https://laufkalendersachsen.de/event/spreequellcross-kottmar/
LOCATION:Walddorf\, Sachsen\, 02739\, Deutschland
CATEGORIES:Wald und Wiese
END:VEVENT
END:VCALENDAR