BEGIN:VCALENDAR
VERSION:2.0
PRODID:-//Laufkalender Sachsen - ECPv6.15.20//NONSGML v1.0//EN
CALSCALE:GREGORIAN
METHOD:PUBLISH
X-ORIGINAL-URL:https://laufkalendersachsen.de
X-WR-CALDESC:Veranstaltungen für Laufkalender Sachsen
REFRESH-INTERVAL;VALUE=DURATION:PT1H
X-Robots-Tag:noindex
X-PUBLISHED-TTL:PT1H
BEGIN:VTIMEZONE
TZID:Europe/Berlin
BEGIN:DAYLIGHT
TZOFFSETFROM:+0100
TZOFFSETTO:+0200
TZNAME:CEST
DTSTART:20240331T010000
END:DAYLIGHT
BEGIN:STANDARD
TZOFFSETFROM:+0200
TZOFFSETTO:+0100
TZNAME:CET
DTSTART:20241027T010000
END:STANDARD
BEGIN:DAYLIGHT
TZOFFSETFROM:+0100
TZOFFSETTO:+0200
TZNAME:CEST
DTSTART:20250330T010000
END:DAYLIGHT
BEGIN:STANDARD
TZOFFSETFROM:+0200
TZOFFSETTO:+0100
TZNAME:CET
DTSTART:20251026T010000
END:STANDARD
BEGIN:DAYLIGHT
TZOFFSETFROM:+0100
TZOFFSETTO:+0200
TZNAME:CEST
DTSTART:20260329T010000
END:DAYLIGHT
BEGIN:STANDARD
TZOFFSETFROM:+0200
TZOFFSETTO:+0100
TZNAME:CET
DTSTART:20261025T010000
END:STANDARD
BEGIN:DAYLIGHT
TZOFFSETFROM:+0100
TZOFFSETTO:+0200
TZNAME:CEST
DTSTART:20270328T010000
END:DAYLIGHT
BEGIN:STANDARD
TZOFFSETFROM:+0200
TZOFFSETTO:+0100
TZNAME:CET
DTSTART:20271031T010000
END:STANDARD
END:VTIMEZONE
BEGIN:VEVENT
DTSTART;TZID=Europe/Berlin:20260204T183000
DTEND;TZID=Europe/Berlin:20260204T200000
DTSTAMP:20260421T130712
CREATED:20211129T121615Z
LAST-MODIFIED:20251125T135745Z
UID:10000584-1770229800-1770235200@laufkalendersachsen.de
SUMMARY:Paarlaufserie unter Flutlicht Görlitz
DESCRIPTION:
URL:https://laufkalendersachsen.de/event/paarlaufserie-unter-flutlicht-goerlitz/
LOCATION:Görlitz\, Sachsen\, Deutschland
CATEGORIES:Bahn,Stundenlauf
END:VEVENT
BEGIN:VEVENT
DTSTART;TZID=Europe/Berlin:20260131T110000
DTEND;TZID=Europe/Berlin:20260131T120000
DTSTAMP:20260421T130712
CREATED:20231201T092059Z
LAST-MODIFIED:20251028T131903Z
UID:10000703-1769857200-1769860800@laufkalendersachsen.de
SUMMARY:Paarlaufserie Niesky 4. VA
DESCRIPTION:
URL:https://laufkalendersachsen.de/event/paarlaufserie-niesky/
LOCATION:Niesky\, Sachsen\, Deutschland
CATEGORIES:Bahn,Stundenlauf
END:VEVENT
BEGIN:VEVENT
DTSTART;TZID=Europe/Berlin:20260131T100000
DTEND;TZID=Europe/Berlin:20260131T130000
DTSTAMP:20260421T130712
CREATED:20210211T122514Z
LAST-MODIFIED:20251125T113223Z
UID:10000398-1769853600-1769864400@laufkalendersachsen.de
SUMMARY:Winterlauf Leipzig
DESCRIPTION:
URL:https://laufkalendersachsen.de/event/winterlauf-leipzig/
LOCATION:Leipzig\, Sachsen\, Deutschland
CATEGORIES:Wald und Wiese
END:VEVENT
BEGIN:VEVENT
DTSTART;TZID=Europe/Berlin:20260125T093000
DTEND;TZID=Europe/Berlin:20260125T130000
DTSTAMP:20260421T130712
CREATED:20231212T130359Z
LAST-MODIFIED:20251202T114611Z
UID:10000711-1769333400-1769346000@laufkalendersachsen.de
SUMMARY:Mitteldeutsche Crosslaufserie - 2. Lauf Remser Wintercross
DESCRIPTION:
URL:https://laufkalendersachsen.de/event/remser-wintercross/
LOCATION:Remse\, Sachsen\, 08373\, Deutschland
CATEGORIES:Wald und Wiese
END:VEVENT
BEGIN:VEVENT
DTSTART;TZID=Europe/Berlin:20260124T080000
DTEND;TZID=Europe/Berlin:20260125T170000
DTSTAMP:20260421T130712
CREATED:20250121T220837Z
LAST-MODIFIED:20251126T073605Z
UID:10000800-1769241600-1769360400@laufkalendersachsen.de
SUMMARY:Frostwiesenlauf
DESCRIPTION:Der Frostwiesenlauf ist eine beliebte Winter-Laufveranstaltung im brandenburgischen Spreewald. Anders als bei klassischen Wettkämpfen steht hier jedoch nicht die Zeitmessung oder Platzierung im Vordergrund\, sondern das gemeinsame Erlebnis in der winterlichen Natur. Der Lauf wird vom Spreewald-Marathon e.V. organisiert und lädt Teilnehmende dazu ein\, die verschneite Landschaft rund um Burg (Spreewald) auf sportliche\, aber entspannte Weise zu erkunden. \nDer Frostwiesenlauf ist ausdrücklich kein Wettkampf\, sondern ein sogenannter Erlebnislauf. Teilnehmende können ganz nach Lust und Kondition laufen\, walken oder wandern. Ziel ist es\, sich zu bewegen\, frische Winterluft zu genießen und die besondere Atmosphäre des Spreewalds zu erleben. Die Veranstaltung findet auf verschiedenen Strecken statt\, die sowohl für Einsteiger als auch für geübte Läuferinnen und Läufer geeignet sind. Am Samstag werden meist kürzere Distanzen wie 3\,6 km\, 10 km oder 13 km angeboten\, während am Sonntag längere Strecken von 5 km\, 10 km\, 21 km oder sogar 30 km zur Wahl stehen. \nDie Startzeiten sind flexibel innerhalb festgelegter Zeitfenster\, was für eine entspannte Atmosphäre sorgt. \nHier gehts zur Anmeldung: https://lausitzer-sportevents.de/anmeldung/anm.php?N=2026021
URL:https://laufkalendersachsen.de/event/frostwiesenlauf/
LOCATION:Burg\, Burg\, Brandenburg\, 03096\, Deutschland
CATEGORIES:Wald und Wiese
ATTACH;FMTTYPE=image/jpeg:https://laufkalendersachsen.de/wp-content/uploads/2025/10/Frostwiesenlauf-2026.jpg
END:VEVENT
BEGIN:VEVENT
DTSTART;TZID=Europe/Berlin:20260118T130000
DTEND;TZID=Europe/Berlin:20260118T153000
DTSTAMP:20260421T130712
CREATED:20231218T132956Z
LAST-MODIFIED:20251218T110655Z
UID:10000712-1768741200-1768750200@laufkalendersachsen.de
SUMMARY:Görlitzer Winterseelauf
DESCRIPTION:
URL:https://laufkalendersachsen.de/event/goerlitzer-winterseelauf/
LOCATION:Görlitz\, Sachsen\, Deutschland
CATEGORIES:Wald und Wiese
END:VEVENT
BEGIN:VEVENT
DTSTART;TZID=Europe/Berlin:20260118T093000
DTEND;TZID=Europe/Berlin:20260118T130000
DTSTAMP:20260421T130712
CREATED:20230117T143429Z
LAST-MODIFIED:20251202T114451Z
UID:10000671-1768728600-1768741200@laufkalendersachsen.de
SUMMARY:Mitteldeutsche Crosslauf Serie - 1. Lauf Werdau
DESCRIPTION:
URL:https://laufkalendersachsen.de/event/mitteldeutsche-crosslauf-serie-1-lauf-werdau/
LOCATION:Werdau\, Sachsen\, Deutschland
CATEGORIES:Wald und Wiese
END:VEVENT
BEGIN:VEVENT
DTSTART;TZID=Europe/Berlin:20260117T100000
DTEND;TZID=Europe/Berlin:20260117T160000
DTSTAMP:20260421T130712
CREATED:20210104T202612Z
LAST-MODIFIED:20251126T074326Z
UID:10000379-1768644000-1768665600@laufkalendersachsen.de
SUMMARY:Wintermarathon Leipzig
DESCRIPTION:
URL:https://laufkalendersachsen.de/event/wintermarathon-leipzig/
LOCATION:Leipzig\, Sachsen\, Deutschland
CATEGORIES:Wald und Wiese
END:VEVENT
BEGIN:VEVENT
DTSTART;TZID=Europe/Berlin:20260114T193000
DTEND;TZID=Europe/Berlin:20260114T210000
DTSTAMP:20260421T130712
CREATED:20211129T121456Z
LAST-MODIFIED:20251028T131325Z
UID:10000583-1768419000-1768424400@laufkalendersachsen.de
SUMMARY:Paarlaufserie unter Flutlicht Görlitz
DESCRIPTION:
URL:https://laufkalendersachsen.de/event/paarlaufserie-unter-flutlicht/
LOCATION:Görlitz\, Sachsen\, Deutschland
CATEGORIES:Bahn,Stundenlauf
END:VEVENT
BEGIN:VEVENT
DTSTART;TZID=Europe/Berlin:20260110T143000
DTEND;TZID=Europe/Berlin:20260110T170000
DTSTAMP:20260421T130712
CREATED:20230111T195112Z
LAST-MODIFIED:20251028T130719Z
UID:10000670-1768055400-1768064400@laufkalendersachsen.de
SUMMARY:Fuchshainer Neujahrslauf
DESCRIPTION:
URL:https://laufkalendersachsen.de/event/fuchshainer-neujahrslauf/
LOCATION:Naunhof\, Sachsen\, Deutschland
CATEGORIES:Wald und Wiese
END:VEVENT
BEGIN:VEVENT
DTSTART;TZID=Europe/Berlin:20260110T080000
DTEND;TZID=Europe/Berlin:20260110T103000
DTSTAMP:20260421T130712
CREATED:20231017T102212Z
LAST-MODIFIED:20251125T113129Z
UID:10000699-1768032000-1768041000@laufkalendersachsen.de
SUMMARY:Bühlauer Winterlaufserie Dresden
DESCRIPTION:
URL:https://laufkalendersachsen.de/event/buehlauer-winterlaufserie-dresden-5/
LOCATION:Dresden\, Dresden\, Sachsen\, Deutschland
CATEGORIES:Wald und Wiese
END:VEVENT
BEGIN:VEVENT
DTSTART;TZID=Europe/Berlin:20260104T103000
DTEND;TZID=Europe/Berlin:20260104T120000
DTSTAMP:20260421T130712
CREATED:20241210T120904Z
LAST-MODIFIED:20251028T130624Z
UID:10000795-1767522600-1767528000@laufkalendersachsen.de
SUMMARY:Neujahrslauf Hoyerswerda
DESCRIPTION:
URL:https://laufkalendersachsen.de/event/neujahrslauf-hoyerswerda/
LOCATION:Hoyerswerda
CATEGORIES:Wald und Wiese
END:VEVENT
BEGIN:VEVENT
DTSTART;TZID=Europe/Berlin:20260104T100000
DTEND;TZID=Europe/Berlin:20260104T123000
DTSTAMP:20260421T130712
CREATED:20201122T210243Z
LAST-MODIFIED:20251125T125428Z
UID:10000323-1767520800-1767529800@laufkalendersachsen.de
SUMMARY:Rollmopslauf Großenhain
DESCRIPTION:
URL:https://laufkalendersachsen.de/event/rollmopslauf-grossenhain/
LOCATION:Großenhain
CATEGORIES:Wald und Wiese
END:VEVENT
BEGIN:VEVENT
DTSTART;TZID=Europe/Berlin:20260103T120000
DTEND;TZID=Europe/Berlin:20260103T140000
DTSTAMP:20260421T130712
CREATED:20210311T130540Z
LAST-MODIFIED:20251024T102742Z
UID:10000467-1767441600-1767448800@laufkalendersachsen.de
SUMMARY:Neujahrsberglauf Falkenstein
DESCRIPTION:
URL:https://laufkalendersachsen.de/event/neujahrsberglauf-falkenstein/
LOCATION:Falkenstein/Vogtland\, Sachsen\, Deutschland
CATEGORIES:Berglauf,Wald und Wiese
END:VEVENT
BEGIN:VEVENT
DTSTART;TZID=Europe/Berlin:20260101T120000
DTEND;TZID=Europe/Berlin:20260101T140000
DTSTAMP:20260421T130712
CREATED:20211202T121748Z
LAST-MODIFIED:20251111T124053Z
UID:10000592-1767268800-1767276000@laufkalendersachsen.de
SUMMARY:Heidenauer Neujahrslauf
DESCRIPTION:
URL:https://laufkalendersachsen.de/event/heidenauer-neujahrslauf/
LOCATION:Heidenau\, Sachsen\, Deutschland
CATEGORIES:Straße
END:VEVENT
BEGIN:VEVENT
DTSTART;TZID=Europe/Berlin:20260101T120000
DTEND;TZID=Europe/Berlin:20260101T133000
DTSTAMP:20260421T130712
CREATED:20231201T092543Z
LAST-MODIFIED:20251024T102600Z
UID:10000706-1767268800-1767274200@laufkalendersachsen.de
SUMMARY:Paarlaufserie Niesky 3. VA
DESCRIPTION:
URL:https://laufkalendersachsen.de/event/paarlaufserie-niesky-faellt-leider-aus-bahn-ist-vereist/
LOCATION:Niesky\, Sachsen\, Deutschland
CATEGORIES:Bahn,Stundenlauf
END:VEVENT
BEGIN:VEVENT
DTSTART;TZID=Europe/Berlin:20260101T110000
DTEND;TZID=Europe/Berlin:20260101T130000
DTSTAMP:20260421T130712
CREATED:20241203T212534Z
LAST-MODIFIED:20251024T102510Z
UID:10000794-1767265200-1767272400@laufkalendersachsen.de
SUMMARY:Bornaer Neujahrslauf
DESCRIPTION:
URL:https://laufkalendersachsen.de/event/bornaer-neujahrslauf/
LOCATION:Borna\, Borna\, Sachsen\, 04552\, Deutschland
CATEGORIES:Wald und Wiese
END:VEVENT
BEGIN:VEVENT
DTSTART;TZID=Europe/Berlin:20260101T110000
DTEND;TZID=Europe/Berlin:20260101T130000
DTSTAMP:20260421T130712
CREATED:20221219T105058Z
LAST-MODIFIED:20251215T131335Z
UID:10000663-1767265200-1767272400@laufkalendersachsen.de
SUMMARY:Zittauer Neujahrslauf
DESCRIPTION:
URL:https://laufkalendersachsen.de/event/zittauer-neujahrslauf/
LOCATION:Zittau\, Lutherplatz\, Zittau\, Sachsen\, Deutschland
CATEGORIES:Wald und Wiese
END:VEVENT
BEGIN:VEVENT
DTSTART;TZID=Europe/Berlin:20251231T140000
DTEND;TZID=Europe/Berlin:20251231T170000
DTSTAMP:20260421T130712
CREATED:20210223T120319Z
LAST-MODIFIED:20251125T153631Z
UID:10000430-1767189600-1767200400@laufkalendersachsen.de
SUMMARY:Oberlichtenauer Silvesterlauf
DESCRIPTION:
URL:https://laufkalendersachsen.de/event/oberlichtenauer-silvesterlauf/
LOCATION:Oberlichtenau
CATEGORIES:Wald und Wiese
END:VEVENT
BEGIN:VEVENT
DTSTART;TZID=Europe/Berlin:20251231T110000
DTEND;TZID=Europe/Berlin:20251231T130000
DTSTAMP:20260421T130712
CREATED:20210715T090608Z
LAST-MODIFIED:20251024T101640Z
UID:10000569-1767178800-1767186000@laufkalendersachsen.de
SUMMARY:Silvesterlauf Weißwasser
DESCRIPTION:Ohne Zeitnahme
URL:https://laufkalendersachsen.de/event/silvesterlauf-weisswasser-ohne-zeitnahme/
LOCATION:Weißwasser\, Sachsen\, Deutschland
CATEGORIES:Wald und Wiese
END:VEVENT
BEGIN:VEVENT
DTSTART;TZID=Europe/Berlin:20251231T110000
DTEND;TZID=Europe/Berlin:20251231T130000
DTSTAMP:20260421T130712
CREATED:20210501T111027Z
LAST-MODIFIED:20251024T101839Z
UID:10000530-1767178800-1767186000@laufkalendersachsen.de
SUMMARY:Chemnitzer Silvesterlauf (PSV Hot) ohne Zeitmessung
DESCRIPTION:Seit 2013 ist es Tradition\, das Jahr mit einem eigenen Silvesterlauf zu beenden. Grund dafür war\, daß der einstige Silvesterlauf des CPSV im Chemnitzer Zeißigwald\, aufgrund unüberwindbarer Differenzen des Ausrichters mit dem eigenen Verein\, nicht mehr durchgeführt werden sollte. So kam es dann auch. \nOhne zu diesem in Konkurenz zu gehen\, wollten wir dennoch das Laufjahr traditionell gebührend verabschieden und mit allen Freunden\, Bekannten und Laufpartnern\, nach kleiner sportlicher Aktivität\, mit einem Gläschen Sekt (und mehr) anstoßen. \nAus diesem lockerem 5km Lauf mit kleinen Snacks\, entwickelte sich schnell ein frohes Stelldichein\, bei welchem Jeder zahlreiche Mitbringsel zum Verzehr auf den Gabentisch legt. So entwickelten sich auch die Teilnehmerzahlen. \nWer also Lust hat an diesem entspannten Freundschaftslauf\, ohne Wertung\, ohne Zeitmessung sowie ohne Startgebühr teilzunehmen\, der findet sich am 31.12. gegen 10 Uhr auf dem Parkplatz der Pfaffenbergturnhalle ein. Der Startort kann kurzfristig präzisiert werden. Es erfolgt die Mitteilung auf der Startseite unserer Homepage. Auch gibt es eine Wander- und Walkingrunde. \nWer Dinge (ob flüssig oder fest) zum Verzehr beisteuern kann\, bringt diese einfach mit. Alles wir alle! Wer möchte\, erhält am Ende eine offizielle Teilnahmeurkunde.
URL:https://laufkalendersachsen.de/event/chemnitzer-silvesterlauf/
LOCATION:Chemnitz
CATEGORIES:Wald und Wiese
END:VEVENT
BEGIN:VEVENT
DTSTART;TZID=Europe/Berlin:20251231T103000
DTEND;TZID=Europe/Berlin:20251231T140000
DTSTAMP:20260421T130712
CREATED:20210501T112203Z
LAST-MODIFIED:20251024T101733Z
UID:10000534-1767177000-1767189600@laufkalendersachsen.de
SUMMARY:Silvesterlauf Bad Düben
DESCRIPTION:
URL:https://laufkalendersachsen.de/event/silvesterlauf-bad-dueben/
LOCATION:Bad Düben\, Sachsen\, Deutschland
CATEGORIES:Wald und Wiese
END:VEVENT
BEGIN:VEVENT
DTSTART;TZID=Europe/Berlin:20251231T103000
DTEND;TZID=Europe/Berlin:20251231T140000
DTSTAMP:20260421T130712
CREATED:20210501T112034Z
LAST-MODIFIED:20251024T101804Z
UID:10000533-1767177000-1767189600@laufkalendersachsen.de
SUMMARY:Bautzener Silvesterlauf
DESCRIPTION:
URL:https://laufkalendersachsen.de/event/bautzener-silvesterlauf/
LOCATION:Bautzen
CATEGORIES:Wald und Wiese
END:VEVENT
BEGIN:VEVENT
DTSTART;TZID=Europe/Berlin:20251231T103000
DTEND;TZID=Europe/Berlin:20251231T130000
DTSTAMP:20260421T130712
CREATED:20241223T093636Z
LAST-MODIFIED:20251205T134219Z
UID:10000797-1767177000-1767186000@laufkalendersachsen.de
SUMMARY:Silvesterlauf Wurzen
DESCRIPTION:
URL:https://laufkalendersachsen.de/event/silvesterlauf-wurzen/
LOCATION:Wurzen\, Sachsen\, Deutschland
CATEGORIES:Stundenlauf,Wald und Wiese
END:VEVENT
BEGIN:VEVENT
DTSTART;TZID=Europe/Berlin:20251231T100000
DTEND;TZID=Europe/Berlin:20251231T140000
DTSTAMP:20260421T130712
CREATED:20210211T130455Z
LAST-MODIFIED:20251024T102037Z
UID:10000411-1767175200-1767189600@laufkalendersachsen.de
SUMMARY:Waldheimer Silvesterlauf
DESCRIPTION:
URL:https://laufkalendersachsen.de/event/waldheimer-silvesterlauf/
LOCATION:Waldheim\, Sachsen\, Deutschland
CATEGORIES:Wald und Wiese
END:VEVENT
BEGIN:VEVENT
DTSTART;TZID=Europe/Berlin:20251231T100000
DTEND;TZID=Europe/Berlin:20251231T130000
DTSTAMP:20260421T130712
CREATED:20240405T135714Z
LAST-MODIFIED:20251024T101120Z
UID:10000743-1767175200-1767186000@laufkalendersachsen.de
SUMMARY:Silvesterlauf Scheibenberg
DESCRIPTION:
URL:https://laufkalendersachsen.de/event/silvesterlauf-scheibenberg/
LOCATION:Scheibenberg\, 09481\, Deutschland
CATEGORIES:Berglauf,Wald und Wiese
END:VEVENT
BEGIN:VEVENT
DTSTART;TZID=Europe/Berlin:20251231T100000
DTEND;TZID=Europe/Berlin:20251231T130000
DTSTAMP:20260421T130712
CREATED:20240109T133257Z
LAST-MODIFIED:20251024T101220Z
UID:10000723-1767175200-1767186000@laufkalendersachsen.de
SUMMARY:Silvesterlauf Tanna
DESCRIPTION:
URL:https://laufkalendersachsen.de/event/silvesterlauf-tanna/
LOCATION:Tanna\, Sachsen\, Deutschland
CATEGORIES:Wald und Wiese
END:VEVENT
BEGIN:VEVENT
DTSTART;TZID=Europe/Berlin:20251231T100000
DTEND;TZID=Europe/Berlin:20251231T130000
DTSTAMP:20260421T130712
CREATED:20221228T182100Z
LAST-MODIFIED:20251024T101345Z
UID:10000664-1767175200-1767186000@laufkalendersachsen.de
SUMMARY:Silvesterlauf am O-See (ohne Zeitmessung)
DESCRIPTION:Start am Olbersdorfer See bei Käptn Hook. \n 
URL:https://laufkalendersachsen.de/event/silvesterlauf-am-o-see/
LOCATION:Zittau\, Lutherplatz\, Zittau\, Sachsen\, Deutschland
CATEGORIES:Wald und Wiese
END:VEVENT
BEGIN:VEVENT
DTSTART;TZID=Europe/Berlin:20251231T100000
DTEND;TZID=Europe/Berlin:20251231T130000
DTSTAMP:20260421T130712
CREATED:20221010T211256Z
LAST-MODIFIED:20251024T101414Z
UID:10000649-1767175200-1767186000@laufkalendersachsen.de
SUMMARY:Silvesterlauf Riesa
DESCRIPTION:Jeder läuft so weit er möchte oder kann. Ohne Zeitnahme\, ohne Wertung\, ohne Startgebühr.
URL:https://laufkalendersachsen.de/event/silvesterlauf-riesa-ohne-startgebuehr/
LOCATION:Riesa
CATEGORIES:Wald und Wiese
END:VEVENT
BEGIN:VEVENT
DTSTART;TZID=Europe/Berlin:20251231T100000
DTEND;TZID=Europe/Berlin:20251231T130000
DTSTAMP:20260421T130712
CREATED:20220403T114509Z
LAST-MODIFIED:20251024T101533Z
UID:10000633-1767175200-1767186000@laufkalendersachsen.de
SUMMARY:Werdauer Silvesterlauf
DESCRIPTION:
URL:https://laufkalendersachsen.de/event/werdauer-silvester-waldlauf-2/
LOCATION:Werdau\, Sachsen\, Deutschland
CATEGORIES:Wald und Wiese
END:VEVENT
END:VCALENDAR