BEGIN:VCALENDAR
VERSION:2.0
PRODID:-//Laufkalender Sachsen - ECPv6.15.20//NONSGML v1.0//EN
CALSCALE:GREGORIAN
METHOD:PUBLISH
X-ORIGINAL-URL:https://laufkalendersachsen.de
X-WR-CALDESC:Veranstaltungen für Laufkalender Sachsen
REFRESH-INTERVAL;VALUE=DURATION:PT1H
X-Robots-Tag:noindex
X-PUBLISHED-TTL:PT1H
BEGIN:VTIMEZONE
TZID:Europe/Berlin
BEGIN:DAYLIGHT
TZOFFSETFROM:+0100
TZOFFSETTO:+0200
TZNAME:CEST
DTSTART:20210328T010000
END:DAYLIGHT
BEGIN:STANDARD
TZOFFSETFROM:+0200
TZOFFSETTO:+0100
TZNAME:CET
DTSTART:20211031T010000
END:STANDARD
BEGIN:DAYLIGHT
TZOFFSETFROM:+0100
TZOFFSETTO:+0200
TZNAME:CEST
DTSTART:20220327T010000
END:DAYLIGHT
BEGIN:STANDARD
TZOFFSETFROM:+0200
TZOFFSETTO:+0100
TZNAME:CET
DTSTART:20221030T010000
END:STANDARD
BEGIN:DAYLIGHT
TZOFFSETFROM:+0100
TZOFFSETTO:+0200
TZNAME:CEST
DTSTART:20230326T010000
END:DAYLIGHT
BEGIN:STANDARD
TZOFFSETFROM:+0200
TZOFFSETTO:+0100
TZNAME:CET
DTSTART:20231029T010000
END:STANDARD
BEGIN:DAYLIGHT
TZOFFSETFROM:+0100
TZOFFSETTO:+0200
TZNAME:CEST
DTSTART:20240331T010000
END:DAYLIGHT
BEGIN:STANDARD
TZOFFSETFROM:+0200
TZOFFSETTO:+0100
TZNAME:CET
DTSTART:20241027T010000
END:STANDARD
END:VTIMEZONE
BEGIN:VEVENT
DTSTART;TZID=Europe/Berlin:20230930T120000
DTEND;TZID=Europe/Berlin:20230930T160000
DTSTAMP:20260425T193559
CREATED:20210210T123535Z
LAST-MODIFIED:20230906T105343Z
UID:10000396-1696075200-1696089600@laufkalendersachsen.de
SUMMARY:Lugturmlauf Dresden (fällt 2023 aus)
DESCRIPTION:
URL:https://laufkalendersachsen.de/event/lugturmlauf-dresden/
LOCATION:Dresden\, Dresden\, Sachsen\, Deutschland
END:VEVENT
BEGIN:VEVENT
DTSTART;TZID=Europe/Berlin:20230909T100000
DTEND;TZID=Europe/Berlin:20230909T160000
DTSTAMP:20260425T193559
CREATED:20210518T100344Z
LAST-MODIFIED:20230515T203519Z
UID:10000559-1694253600-1694275200@laufkalendersachsen.de
SUMMARY:Königslauf Bad Elster (2023 keine Austragung)
DESCRIPTION:
URL:https://laufkalendersachsen.de/event/koenigslauf-bad-elster/
LOCATION:Bad Elster\, Sachsen\, Deutschland
END:VEVENT
BEGIN:VEVENT
DTSTART;TZID=Europe/Berlin:20230826T130000
DTEND;TZID=Europe/Berlin:20230826T170000
DTSTAMP:20260425T193559
CREATED:20230120T151950Z
LAST-MODIFIED:20230308T194315Z
UID:10000677-1693054800-1693069200@laufkalendersachsen.de
SUMMARY:Heimatfestlauf Thalheim
DESCRIPTION:
URL:https://laufkalendersachsen.de/event/heimatfestlauf-thalheim/
LOCATION:Oschatz\, Sachsen\, Deutschland
END:VEVENT
BEGIN:VEVENT
DTSTART;TZID=Europe/Berlin:20230709T113000
DTEND;TZID=Europe/Berlin:20230709T150000
DTSTAMP:20260425T193559
CREATED:20210331T101555Z
LAST-MODIFIED:20230210T210532Z
UID:10000488-1688902200-1688914800@laufkalendersachsen.de
SUMMARY:Vom Wehlstädtel ins Felsidyll
DESCRIPTION:
URL:https://laufkalendersachsen.de/event/vom-wehlstaedtel-ins-felsidyll-2021-nur-virtuell/
LOCATION:Wehlen\, Sachsen\, Deutschland
END:VEVENT
BEGIN:VEVENT
DTSTART;TZID=Europe/Berlin:20230702T100000
DTEND;TZID=Europe/Berlin:20230702T130000
DTSTAMP:20260425T193559
CREATED:20230308T194934Z
LAST-MODIFIED:20230308T194934Z
UID:10000686-1688292000-1688302800@laufkalendersachsen.de
SUMMARY:Süptitzer Stauseelauf
DESCRIPTION:
URL:https://laufkalendersachsen.de/event/sueptitzer-stauseelauf/
LOCATION:Süptitz\, Sachsen\, 04860\, Deutschland
END:VEVENT
BEGIN:VEVENT
DTSTART;TZID=Europe/Berlin:20230701T110000
DTEND;TZID=Europe/Berlin:20230701T140000
DTSTAMP:20260425T193559
CREATED:20210304T132432Z
LAST-MODIFIED:20230320T204240Z
UID:10000452-1688209200-1688220000@laufkalendersachsen.de
SUMMARY:Lödla crosst
DESCRIPTION:Lödla crosst versucht die zwei Sportarten Crosslauf aus der Leichtathletik und MTB aus dem Radsport an einem Tag und einem Ort zu vereinen\, womit den Läufern\, Radfahrern\, Zuschauern und Dorfbewohnern eine aufstrebende Sportveranstaltung geboten wird. Verschiedene Starts und enge Zieleinläufe versprechen einfach Spannung pur. \nDoch was ist eine Sportveranstaltung ohne Versorgung und Rahmenprogramm? Somit wurde die Sportveranstaltung mit einem Dorffest unter dem Motto „Für Lödla von Lödla“ kombiniert: Kinder-MTB-Rennen\, Disco und viele Attraktionen haben sich mittlerweile fest in Lödla crosst integriert. \nOrganisiert wird Lödla crosst von den beiden Sportvereinen SV Aufbau Altenburg und SV Lerchenberg Altenburg sowie der Gemeinde Lödla. Zur Lödla-crosst-Familie gehören zudem fast alle Lödlaer Vereine\, welche das Event tatkräftig unterstützen.
URL:https://laufkalendersachsen.de/event/loedla-crosst/
LOCATION:Lödla\, Sachsen\, Deutschland
END:VEVENT
BEGIN:VEVENT
DTSTART;TZID=Europe/Berlin:20230602T190000
DTEND;TZID=Europe/Berlin:20230602T230000
DTSTAMP:20260425T193559
CREATED:20210428T075454Z
LAST-MODIFIED:20240124T103930Z
UID:10000517-1685732400-1685746800@laufkalendersachsen.de
SUMMARY:Steinberglauf Chemnitz
DESCRIPTION:
URL:https://laufkalendersachsen.de/event/steinberglauf-chemnitz/
LOCATION:Chemnitz
END:VEVENT
BEGIN:VEVENT
DTSTART;TZID=Europe/Berlin:20230506T150000
DTEND;TZID=Europe/Berlin:20230506T190000
DTSTAMP:20260425T193559
CREATED:20210211T125904Z
LAST-MODIFIED:20230324T213641Z
UID:10000408-1683385200-1683399600@laufkalendersachsen.de
SUMMARY:RIO-Städtelauf Riesa-Oschatz (fällt 2023 aus)
DESCRIPTION:
URL:https://laufkalendersachsen.de/event/rio-staedtelauf-riesa-oschatz-2/
LOCATION:Riesa
END:VEVENT
BEGIN:VEVENT
DTSTART;TZID=Europe/Berlin:20221009T100000
DTEND;TZID=Europe/Berlin:20221009T190000
DTSTAMP:20260425T193559
CREATED:20210518T093402Z
LAST-MODIFIED:20220424T121816Z
UID:10000550-1665309600-1665342000@laufkalendersachsen.de
SUMMARY:Herbstcrosslauf Grünheide
DESCRIPTION:
URL:https://laufkalendersachsen.de/event/herbstcrosslauf-gruenheide/
LOCATION:Grünheide\, Sachsen\, Deutschland
END:VEVENT
BEGIN:VEVENT
DTSTART;TZID=Europe/Berlin:20220918T100000
DTEND;TZID=Europe/Berlin:20220918T190000
DTSTAMP:20260425T193559
CREATED:20210331T101950Z
LAST-MODIFIED:20230515T204441Z
UID:10000490-1663495200-1663527600@laufkalendersachsen.de
SUMMARY:Ehrenberger Herbstlauf
DESCRIPTION:
URL:https://laufkalendersachsen.de/event/ehrenberger-herbstlauf-2021-faellt-dieser-lauf-wegen-baumassnahmen-aus/
LOCATION:Ehrenberg\, Sachsen\, Deutschland
END:VEVENT
END:VCALENDAR