BEGIN:VCALENDAR
VERSION:2.0
PRODID:-//Laufkalender Sachsen - ECPv6.15.20//NONSGML v1.0//EN
CALSCALE:GREGORIAN
METHOD:PUBLISH
X-WR-CALNAME:Laufkalender Sachsen
X-ORIGINAL-URL:https://laufkalendersachsen.de
X-WR-CALDESC:Veranstaltungen für Laufkalender Sachsen
REFRESH-INTERVAL;VALUE=DURATION:PT1H
X-Robots-Tag:noindex
X-PUBLISHED-TTL:PT1H
BEGIN:VTIMEZONE
TZID:Europe/Berlin
BEGIN:DAYLIGHT
TZOFFSETFROM:+0100
TZOFFSETTO:+0200
TZNAME:CEST
DTSTART:20240331T010000
END:DAYLIGHT
BEGIN:STANDARD
TZOFFSETFROM:+0200
TZOFFSETTO:+0100
TZNAME:CET
DTSTART:20241027T010000
END:STANDARD
BEGIN:DAYLIGHT
TZOFFSETFROM:+0100
TZOFFSETTO:+0200
TZNAME:CEST
DTSTART:20250330T010000
END:DAYLIGHT
BEGIN:STANDARD
TZOFFSETFROM:+0200
TZOFFSETTO:+0100
TZNAME:CET
DTSTART:20251026T010000
END:STANDARD
BEGIN:DAYLIGHT
TZOFFSETFROM:+0100
TZOFFSETTO:+0200
TZNAME:CEST
DTSTART:20260329T010000
END:DAYLIGHT
BEGIN:STANDARD
TZOFFSETFROM:+0200
TZOFFSETTO:+0100
TZNAME:CET
DTSTART:20261025T010000
END:STANDARD
END:VTIMEZONE
BEGIN:VEVENT
DTSTART;TZID=Europe/Berlin:20251101T080000
DTEND;TZID=Europe/Berlin:20251101T170000
DTSTAMP:20260425T163755
CREATED:20240503T200722Z
LAST-MODIFIED:20251024T093500Z
UID:7529-1761984000-1762016400@laufkalendersachsen.de
SUMMARY:Chemnitzer Treppenlauf
DESCRIPTION:Lass diesen Worten Taten folgen und im wahrsten Sinne des Wortes hoch hinaus laufen – die gut 100m hoch im Dorint Kongresshotel Chemnitz.\nWann hat man schon die Gelegenheit senkrecht durchzustarten? Der Weltrekord im Sprint 100m geradeaus liegt bei 9\,58s\, aber 100m nach oben? Wie lange magst du dabei brauchen? Die elektronische Zeitnahme wird es dir verraten.\nStell dich der Herausforderung und lege auf 452 Stufen ein ordentliches Tempo vor. Wobei\, wie viele Stufen sind es genau? Kannst du außer Atem mitzählen? Jedenfalls erwarten Dich im Ziel in der 26. Etage beim Panoramarestaurant ein super Ausblick als auch Getränke und Snacks.
URL:https://laufkalendersachsen.de/event/chemnitzer-treppenlauf/
LOCATION:Chemnitz
CATEGORIES:Treppenlauf
END:VEVENT
END:VCALENDAR